BEGIN:VCALENDAR
BEGIN:VEVENT
DESCRIPTION:\nMore Information: https://tickets.sffilm.org/websales/pages/TicketSearchCriteria.aspx?evtInfo=1007588~26a0f97a-140f-4809-bc60-142a5b5deefa&\n\n
DTSTART:20260501T224500Z
DTEND:20260502T004200Z
LOCATION:Marina Theatre 2, 2149 Chestnut St., San Francisco, CA, 94123
SUMMARY:Who Moves America
UID:1007588
DTSTAMP:20260422T190726Z
END:VEVENT
END:VCALENDAR
