BEGIN:VCALENDAR
BEGIN:VEVENT
DESCRIPTION:\nMore Information: https://tickets.sffilm.org/websales/pages/TicketSearchCriteria.aspx?evtInfo=1007591~26a0f97a-140f-4809-bc60-142a5b5deefa&\n\n
DTSTART:20260501T003000Z
DTEND:20260501T023100Z
LOCATION:Marina Theatre 2, 2149 Chestnut St., San Francisco, CA, 94123
SUMMARY:Cookie Queens
UID:1007591
DTSTAMP:20260422T164130Z
END:VEVENT
END:VCALENDAR
