BEGIN:VCALENDAR
BEGIN:VEVENT
DESCRIPTION:\nMore Information: https://tickets.sffilm.org/websales/pages/TicketSearchCriteria.aspx?evtInfo=1008202~26a0f97a-140f-4809-bc60-142a5b5deefa&\n\n
DTSTART:20260504T023000Z
DTEND:20260504T041000Z
LOCATION:Jewish Community Center of San Francisco, 3200 California Street, SAN FRANCISCO, CA, 94118
SUMMARY:I Love Boosters
UID:1008202
DTSTAMP:20260422T164130Z
END:VEVENT
END:VCALENDAR
