BEGIN:VCALENDAR
BEGIN:VEVENT
DESCRIPTION:\nMore Information: https://tickets.sffilm.org/websales/pages/TicketSearchCriteria.aspx?evtInfo=676679~26a0f97a-140f-4809-bc60-142a5b5deefa&\n\n
DTSTART:20200419T230000Z
DTEND:20200420T004600Z
LOCATION:Roxie Theater, 3117 16th Street, SAN FRANCISCO, CA, 94103
SUMMARY:Shorts 2
UID:676679
DTSTAMP:20260419T213451Z
END:VEVENT
END:VCALENDAR
