BEGIN:VCALENDAR
BEGIN:VEVENT
DESCRIPTION:\nMore Information: https://tickets.sffilm.org/websales/pages/TicketSearchCriteria.aspx?evtInfo=728625~26a0f97a-140f-4809-bc60-142a5b5deefa&\n\n
DTSTART:20220425T000000Z
DTEND:20220425T024300Z
LOCATION:Roxie Theater, 3117 16th Street, SAN FRANCISCO, CA, 94103
SUMMARY:The Box
UID:728625
DTSTAMP:20260419T135938Z
END:VEVENT
END:VCALENDAR
