BEGIN:VCALENDAR
BEGIN:VEVENT
DESCRIPTION:\nMore Information: https://tickets.sffilm.org/websales/pages/TicketSearchCriteria.aspx?evtInfo=728630~26a0f97a-140f-4809-bc60-142a5b5deefa&\n\n
DTSTART:20220501T024500Z
DTEND:20220501T053400Z
LOCATION:Berkeley Art Museum/Pacific Film Archive, 2155 Center Street, BERKELEY, CA, 94701
SUMMARY:&#206;ntregalde
UID:728630
DTSTAMP:20260425T052927Z
END:VEVENT
END:VCALENDAR
