BEGIN:VCALENDAR
BEGIN:VEVENT
DESCRIPTION:\nMore Information: https://tickets.sffilm.org/websales/pages/TicketSearchCriteria.aspx?evtInfo=728640~26a0f97a-140f-4809-bc60-142a5b5deefa&\n\n
DTSTART:20220424T210000Z
DTEND:20220424T230100Z
LOCATION:Berkeley Art Museum/Pacific Film Archive, 2155 Center Street, BERKELEY, CA, 94701
SUMMARY:The Exiles
UID:728640
DTSTAMP:20260423T002438Z
END:VEVENT
END:VCALENDAR
