BEGIN:VCALENDAR
BEGIN:VEVENT
DESCRIPTION:\nMore Information: https://tickets.sffilm.org/websales/pages/TicketSearchCriteria.aspx?evtInfo=728675~26a0f97a-140f-4809-bc60-142a5b5deefa&\n\n
DTSTART:20220424T033000Z
DTEND:20220424T045700Z
LOCATION:Vogue Theatre, 3290 Sacramento Street, SAN FRANCISCO, CA, 94115
SUMMARY:No Simple Way Home
UID:728675
DTSTAMP:20260425T132309Z
END:VEVENT
END:VCALENDAR
