BEGIN:VCALENDAR
BEGIN:VEVENT
DESCRIPTION:\nMore Information: https://tickets.sffilm.org/websales/pages/TicketSearchCriteria.aspx?evtInfo=728679~26a0f97a-140f-4809-bc60-142a5b5deefa&\n\n
DTSTART:20220427T023000Z
DTEND:20220427T042600Z
LOCATION:Castro Theatre, 429 Castro Street, SAN FRANCISCO, CA, 94114
SUMMARY:Sloan Science on Screen Award: Linoleum
UID:728679
DTSTAMP:20260422T190731Z
END:VEVENT
END:VCALENDAR
