BEGIN:VCALENDAR
BEGIN:VEVENT
DESCRIPTION:\nMore Information: https://tickets.sffilm.org/websales/pages/TicketSearchCriteria.aspx?evtInfo=730299~26a0f97a-140f-4809-bc60-142a5b5deefa&\n\n
DTSTART:20220426T020000Z
DTEND:20220426T040000Z
LOCATION:Castro Theatre, 429 Castro Street, SAN FRANCISCO, CA, 94114
SUMMARY:Crouching Tiger, Hidden Dragon
UID:730299
DTSTAMP:20260419T235514Z
END:VEVENT
END:VCALENDAR
