BEGIN:VCALENDAR
BEGIN:VEVENT
DESCRIPTION:\nMore Information: https://tickets.sffilm.org/websales/pages/TicketSearchCriteria.aspx?evtInfo=760384~26a0f97a-140f-4809-bc60-142a5b5deefa&\n\n
DTSTART:20221106T230000Z
DTEND:20221107T002900Z
LOCATION:Castro Theatre, 429 Castro Street, SAN FRANCISCO, CA, 94114
SUMMARY:Closing Night: &quot;Sr.&quot;
UID:760384
DTSTAMP:20260421T104806Z
END:VEVENT
END:VCALENDAR
