BEGIN:VCALENDAR
BEGIN:VEVENT
DESCRIPTION:\nMore Information: https://tickets.sffilm.org/websales/pages/TicketSearchCriteria.aspx?evtInfo=784443~26a0f97a-140f-4809-bc60-142a5b5deefa&\n\n
DTSTART:20230414T043000Z
DTEND:20230414T062000Z
LOCATION:Grand Lake Theatre, 3200 Grand Avenue, Oakland, CA, 94610
SUMMARY:Stephen Curry: Underrated
UID:784443
DTSTAMP:20260424T065021Z
END:VEVENT
END:VCALENDAR
