BEGIN:VCALENDAR
BEGIN:VEVENT
DESCRIPTION:\nMore Information: https://tickets.sffilm.org/websales/pages/TicketSearchCriteria.aspx?evtInfo=785389~26a0f97a-140f-4809-bc60-142a5b5deefa&\n\n
DTSTART:20230417T003000Z
DTEND:20230417T024000Z
LOCATION:CGV San Francisco, 1000 Van Ness Ave, San Francisco, CA, 94109
SUMMARY:Confessions of a Good Samaritan
UID:785389
DTSTAMP:20260420T034414Z
END:VEVENT
END:VCALENDAR
