BEGIN:VCALENDAR
BEGIN:VEVENT
DESCRIPTION:\nMore Information: https://tickets.sffilm.org/websales/pages/TicketSearchCriteria.aspx?evtInfo=785395~26a0f97a-140f-4809-bc60-142a5b5deefa&\n\n
DTSTART:20230419T000000Z
DTEND:20230419T021400Z
LOCATION:Castro Theatre, 429 Castro Street, SAN FRANCISCO, CA, 94114
SUMMARY:Joan Baez I Am a Noise
UID:785395
DTSTAMP:20260423T062732Z
END:VEVENT
END:VCALENDAR
