BEGIN:VCALENDAR
BEGIN:VEVENT
DESCRIPTION:\nMore Information: https://tickets.sffilm.org/websales/pages/TicketSearchCriteria.aspx?evtInfo=785408~26a0f97a-140f-4809-bc60-142a5b5deefa&\n\n
DTSTART:20230422T034500Z
DTEND:20230422T061800Z
LOCATION:CGV San Francisco 3, 1000 Van Ness Ave, San Francisco, CA, 94109
SUMMARY:Milisuthando
UID:785408
DTSTAMP:20260419T230356Z
END:VEVENT
END:VCALENDAR
