BEGIN:VCALENDAR
BEGIN:VEVENT
DESCRIPTION:\nMore Information: https://tickets.sffilm.org/websales/pages/TicketSearchCriteria.aspx?evtInfo=785413~26a0f97a-140f-4809-bc60-142a5b5deefa&\n\n
DTSTART:20230422T213000Z
DTEND:20230423T000300Z
LOCATION:Berkeley Art Museum/Pacific Film Archive, 2155 Center Street, BERKELEY, CA, 94701
SUMMARY:Milisuthando
UID:785413
DTSTAMP:20260419T195849Z
END:VEVENT
END:VCALENDAR
