BEGIN:VCALENDAR
BEGIN:VEVENT
DESCRIPTION:\nMore Information: https://tickets.sffilm.org/websales/pages/TicketSearchCriteria.aspx?evtInfo=833339~26a0f97a-140f-4809-bc60-142a5b5deefa&\n\n
DTSTART:20231103T040000Z
DTEND:20231103T053000Z
LOCATION:Vogue Theatre, 3290 Sacramento Street, SAN FRANCISCO, CA, 94115
SUMMARY:American Symphony
UID:833339
DTSTAMP:20260421T124704Z
END:VEVENT
END:VCALENDAR
