BEGIN:VCALENDAR
BEGIN:VEVENT
DESCRIPTION:\nMore Information: https://tickets.sffilm.org/websales/pages/TicketSearchCriteria.aspx?evtInfo=859115~26a0f97a-140f-4809-bc60-142a5b5deefa&\n\n
DTSTART:20240426T033000Z
DTEND:20240426T054200Z
LOCATION:Premier Theater at One Letterman, Premier Theater, Letterman Digital Arts Center, th, SAN FRANCISCO, CA, 94129
SUMMARY:Sing Sing
UID:859115
DTSTAMP:20260425T092955Z
END:VEVENT
END:VCALENDAR
