BEGIN:VCALENDAR
BEGIN:VEVENT
DESCRIPTION:\nMore Information: https://tickets.sffilm.org/websales/pages/TicketSearchCriteria.aspx?evtInfo=859136~26a0f97a-140f-4809-bc60-142a5b5deefa&\n\n
DTSTART:20240429T030000Z
DTEND:20240429T045700Z
LOCATION:Marina Theater 1, 2149 Chestnut St, San Francisco, CA, 94123
SUMMARY:Thelma
UID:859136
DTSTAMP:20260422T200638Z
END:VEVENT
END:VCALENDAR
