BEGIN:VCALENDAR
BEGIN:VEVENT
DESCRIPTION:\nMore Information: https://tickets.sffilm.org/websales/pages/TicketSearchCriteria.aspx?evtInfo=896938~26a0f97a-140f-4809-bc60-142a5b5deefa&\n\n
DTSTART:20241020T233000Z
DTEND:20241021T010000Z
LOCATION:Vogue Theatre, 3290 Sacramento Street, SAN FRANCISCO, CA, 94115
SUMMARY:The White House Effect
UID:896938
DTSTAMP:20260421T095538Z
END:VEVENT
END:VCALENDAR
