BEGIN:VCALENDAR
BEGIN:VEVENT
DESCRIPTION:\nMore Information: https://tickets.sffilm.org/websales/pages/TicketSearchCriteria.aspx?evtInfo=930928~26a0f97a-140f-4809-bc60-142a5b5deefa&\n\n
DTSTART:20250419T010000Z
DTEND:20250419T023200Z
LOCATION:Marina Theater 1, 2149 Chestnut St, San Francisco, CA, 94123
SUMMARY:Hot Milk
UID:930928
DTSTAMP:20260421T101558Z
END:VEVENT
END:VCALENDAR
