BEGIN:VCALENDAR
BEGIN:VEVENT
DESCRIPTION:\nMore Information: https://tickets.sffilm.org/websales/pages/TicketSearchCriteria.aspx?evtInfo=930946~26a0f97a-140f-4809-bc60-142a5b5deefa&\n\n
DTSTART:20250419T221500Z
DTEND:20250420T002000Z
LOCATION:Marina Theater 1, 2149 Chestnut St, San Francisco, CA, 94123
SUMMARY:Seeds
UID:930946
DTSTAMP:20260422T051344Z
END:VEVENT
END:VCALENDAR
