BEGIN:VCALENDAR
BEGIN:VEVENT
DESCRIPTION:\nMore Information: https://tickets.sffilm.org/websales/pages/TicketSearchCriteria.aspx?evtInfo=930952~26a0f97a-140f-4809-bc60-142a5b5deefa&\n\n
DTSTART:20250420T013000Z
DTEND:20250420T030700Z
LOCATION:Marina Theater 1, 2149 Chestnut St, San Francisco, CA, 94123
SUMMARY:Surviving Earth
UID:930952
DTSTAMP:20260421T101525Z
END:VEVENT
END:VCALENDAR
