BEGIN:VCALENDAR
BEGIN:VEVENT
DESCRIPTION:\nMore Information: https://tickets.sffilm.org/websales/pages/TicketSearchCriteria.aspx?evtInfo=930970~26a0f97a-140f-4809-bc60-142a5b5deefa&\n\n
DTSTART:20250421T003000Z
DTEND:20250421T020000Z
LOCATION:Marina Theatre 2, 2149 Chestnut St., San Francisco, CA, 94123
SUMMARY:Ink Wash
UID:930970
DTSTAMP:20260421T101558Z
END:VEVENT
END:VCALENDAR
