BEGIN:VCALENDAR
BEGIN:VEVENT
DESCRIPTION:\nMore Information: https://tickets.sffilm.org/websales/pages/TicketSearchCriteria.aspx?evtInfo=930973~26a0f97a-140f-4809-bc60-142a5b5deefa&\n\n
DTSTART:20250421T030000Z
DTEND:20250421T050500Z
LOCATION:Premier Theater at One Letterman, Premier Theater, Letterman Digital Arts Center, th, SAN FRANCISCO, CA, 94129
SUMMARY:Horizon
UID:930973
DTSTAMP:20260425T055040Z
END:VEVENT
END:VCALENDAR
