BEGIN:VCALENDAR
BEGIN:VEVENT
DESCRIPTION:\nMore Information: https://tickets.sffilm.org/websales/pages/TicketSearchCriteria.aspx?evtInfo=931003~26a0f97a-140f-4809-bc60-142a5b5deefa&\n\n
DTSTART:20250425T003000Z
DTEND:20250425T021300Z
LOCATION:Premier Theater at One Letterman, Premier Theater, Letterman Digital Arts Center, th, SAN FRANCISCO, CA, 94129
SUMMARY:Nine Months
UID:931003
DTSTAMP:20260425T074029Z
END:VEVENT
END:VCALENDAR
