BEGIN:VCALENDAR
BEGIN:VEVENT
DESCRIPTION:\nMore Information: https://tickets.sffilm.org/websales/pages/TicketSearchCriteria.aspx?evtInfo=931020~26a0f97a-140f-4809-bc60-142a5b5deefa&\n\n
DTSTART:20250426T190000Z
DTEND:20250426T203300Z
LOCATION:Premier Theater at One Letterman, Premier Theater, Letterman Digital Arts Center, th, SAN FRANCISCO, CA, 94129
SUMMARY:The Tallest Dwarf
UID:931020
DTSTAMP:20260419T222607Z
END:VEVENT
END:VCALENDAR
