BEGIN:VCALENDAR
BEGIN:VEVENT
DESCRIPTION:\nMore Information: https://tickets.sffilm.org/websales/pages/TicketSearchCriteria.aspx?evtInfo=931030~26a0f97a-140f-4809-bc60-142a5b5deefa&\n\n
DTSTART:20250427T043000Z
DTEND:20250427T061500Z
LOCATION:Marina Theatre 2, 2149 Chestnut St., San Francisco, CA, 94123
SUMMARY:Carnival of Souls
UID:931030
DTSTAMP:20260425T092955Z
END:VEVENT
END:VCALENDAR
