BEGIN:VCALENDAR
BEGIN:VEVENT
DESCRIPTION:\nMore Information: https://tickets.sffilm.org/websales/pages/TicketSearchCriteria.aspx?evtInfo=942557~26a0f97a-140f-4809-bc60-142a5b5deefa&\n\n
DTSTART:20250529T020000Z
DTEND:20250529T034000Z
LOCATION:AMC Kabuki 8, 1881 Post Street, SAN FRANCISCO, CA, 94115
SUMMARY:The Life of Chuck
UID:942557
DTSTAMP:20260424T105956Z
END:VEVENT
END:VCALENDAR
