BEGIN:VCALENDAR
BEGIN:VEVENT
DESCRIPTION:\nMore Information: https://tickets.sffilm.org/websales/pages/TicketSearchCriteria.aspx?evtInfo=970320~26a0f97a-140f-4809-bc60-142a5b5deefa&\n\n
DTSTART:20251108T220000Z
DTEND:20251108T234000Z
LOCATION:SFFILM FilmHouse, 455 9th St., San Francisco, CA, 94103
SUMMARY:Teen Workshop: Documentary Filmmaking and Creating Understanding
UID:970320
DTSTAMP:20260425T231858Z
END:VEVENT
END:VCALENDAR
